BEGIN:VCALENDAR
VERSION:2.0
METHOD:PUBLISH
X-WR-CALNAME:Waiau Pa School |  September 01 2017- October 01 2017 | Filter\: 
PRODID:-//strange bird labs//Drupal iCal API//EN
BEGIN:VEVENT
DTSTAMP;VALUE=DATE-TIME:20180123T151853Z
DTSTART;VALUE=DATE-TIME:20170904T021900Z
DTEND;VALUE=DATE-TIME:20020203
UID:http://www.waiaupa.school.nz/whats-on-the-menu-rm-9-0
URL;VALUE=URI:http://www.waiaupa.school.nz/whats-on-the-menu-rm-9-0
SUMMARY:What's on the Menu? Rm 9
END:VEVENT
BEGIN:VEVENT
DTSTAMP;VALUE=DATE-TIME:20180123T151853Z
DTSTART;VALUE=DATE-TIME:20170905T021900Z
DTEND;VALUE=DATE-TIME:20020203
UID:http://www.waiaupa.school.nz/franklin-yr-56-basketball-boys
URL;VALUE=URI:http://www.waiaupa.school.nz/franklin-yr-56-basketball-boys
SUMMARY:Franklin Yr 5.6 Basketball - boys
END:VEVENT
BEGIN:VEVENT
DTSTAMP;VALUE=DATE-TIME:20180123T151853Z
DTSTART;VALUE=DATE-TIME:20170905T021900Z
DTEND;VALUE=DATE-TIME:20020203
UID:http://www.waiaupa.school.nz/gymnastics-lessons-4
URL;VALUE=URI:http://www.waiaupa.school.nz/gymnastics-lessons-4
SUMMARY:Gymnastics lessons
END:VEVENT
BEGIN:VEVENT
DTSTAMP;VALUE=DATE-TIME:20180123T151853Z
DTSTART;VALUE=DATE-TIME:20170906T022000Z
DTEND;VALUE=DATE-TIME:20020203
UID:http://www.waiaupa.school.nz/franklin-yr-56-basketball-girls
URL;VALUE=URI:http://www.waiaupa.school.nz/franklin-yr-56-basketball-girls
SUMMARY:Franklin Yr 5/6 Basketball - girls
END:VEVENT
BEGIN:VEVENT
DTSTAMP;VALUE=DATE-TIME:20180123T151853Z
DTSTART;VALUE=DATE-TIME:20170906T022000Z
DTEND;VALUE=DATE-TIME:20020203
UID:http://www.waiaupa.school.nz/gymnastics-lessons-5
URL;VALUE=URI:http://www.waiaupa.school.nz/gymnastics-lessons-5
SUMMARY:Gymnastics lessons
END:VEVENT
BEGIN:VEVENT
DTSTAMP;VALUE=DATE-TIME:20180123T151853Z
DTSTART;VALUE=DATE-TIME:20170908T010000Z
DTEND;VALUE=DATE-TIME:20170908T010000Z
UID:http://www.waiaupa.school.nz/assembly-kowhai-syndicate-all-welcome-3
URL;VALUE=URI:http://www.waiaupa.school.nz/assembly-kowhai-syndicate-all-welcome-3
SUMMARY:Assembly ~ Kowhai Syndicate - All welcome
END:VEVENT
BEGIN:VEVENT
DTSTAMP;VALUE=DATE-TIME:20180123T151853Z
DTSTART;VALUE=DATE-TIME:20170911T022300Z
DTEND;VALUE=DATE-TIME:20020203
UID:http://www.waiaupa.school.nz/whats-on-the-menu-rm-9-1
URL;VALUE=URI:http://www.waiaupa.school.nz/whats-on-the-menu-rm-9-1
SUMMARY:What's on the Menu? Rm 9
END:VEVENT
BEGIN:VEVENT
DTSTAMP;VALUE=DATE-TIME:20180123T151853Z
DTSTART;VALUE=DATE-TIME:20170914T022300Z
DTEND;VALUE=DATE-TIME:20020203
UID:http://www.waiaupa.school.nz/kowhai-fit-kid-challenge
URL;VALUE=URI:http://www.waiaupa.school.nz/kowhai-fit-kid-challenge
SUMMARY:Kowhai Fit Kid Challenge ~ 1.30pm
END:VEVENT
BEGIN:VEVENT
DTSTAMP;VALUE=DATE-TIME:20180123T151853Z
DTSTART;VALUE=DATE-TIME:20170918T023100Z
DTEND;VALUE=DATE-TIME:20020203
UID:http://www.waiaupa.school.nz/whats-on-the-menu-rm-10
URL;VALUE=URI:http://www.waiaupa.school.nz/whats-on-the-menu-rm-10
SUMMARY:What's on the Menu ~ Rm 10
END:VEVENT
BEGIN:VEVENT
DTSTAMP;VALUE=DATE-TIME:20180123T151853Z
DTSTART;VALUE=DATE-TIME:20170918T063000Z
DTEND;VALUE=DATE-TIME:20170918T063000Z
UID:http://www.waiaupa.school.nz/bot-meeting-school-staffroom-all-welcome-1
URL;VALUE=URI:http://www.waiaupa.school.nz/bot-meeting-school-staffroom-all-welcome-1
SUMMARY:BOT Meeting School Staffroom ~ All Welcome
END:VEVENT
BEGIN:VEVENT
DTSTAMP;VALUE=DATE-TIME:20180123T151853Z
DTSTART;VALUE=DATE-TIME:20170919T023200Z
DTEND;VALUE=DATE-TIME:20020203
UID:http://www.waiaupa.school.nz/franklin-yr-78-basketball-boys
URL;VALUE=URI:http://www.waiaupa.school.nz/franklin-yr-78-basketball-boys
SUMMARY:Franklin Yr 7/8 Basketball - Boys
END:VEVENT
BEGIN:VEVENT
DTSTAMP;VALUE=DATE-TIME:20180123T151853Z
DTSTART;VALUE=DATE-TIME:20170920T023200Z
DTEND;VALUE=DATE-TIME:20020203
UID:http://www.waiaupa.school.nz/franklin-yr-78-basketball-girls
URL;VALUE=URI:http://www.waiaupa.school.nz/franklin-yr-78-basketball-girls
SUMMARY:Franklin Yr 7/8 Basketball - Girls
END:VEVENT
BEGIN:VEVENT
DTSTAMP;VALUE=DATE-TIME:20180123T151853Z
DTSTART;VALUE=DATE-TIME:20170920T023300Z
DTEND;VALUE=DATE-TIME:20020203
UID:http://www.waiaupa.school.nz/karaka-cross-country-2
URL;VALUE=URI:http://www.waiaupa.school.nz/karaka-cross-country-2
SUMMARY:Karaka Cross Country
END:VEVENT
BEGIN:VEVENT
DTSTAMP;VALUE=DATE-TIME:20180123T151853Z
DTSTART;VALUE=DATE-TIME:20170922T010000Z
DTEND;VALUE=DATE-TIME:20170922T010000Z
UID:http://www.waiaupa.school.nz/assembly-workers-of-the-term-all-welcome-0
URL;VALUE=URI:http://www.waiaupa.school.nz/assembly-workers-of-the-term-all-welcome-0
SUMMARY:Assembly ~ Workers of the term - All welcome
END:VEVENT
BEGIN:VEVENT
DTSTAMP;VALUE=DATE-TIME:20180123T151853Z
DTSTART;VALUE=DATE-TIME:20170925T023400Z
DTEND;VALUE=DATE-TIME:20020203
UID:http://www.waiaupa.school.nz/whats-on-the-menu-room-10
URL;VALUE=URI:http://www.waiaupa.school.nz/whats-on-the-menu-room-10
SUMMARY:What's on the Menu ~ Room 10
END:VEVENT
BEGIN:VEVENT
DTSTAMP;VALUE=DATE-TIME:20180123T151853Z
DTSTART;VALUE=DATE-TIME:20170928T023400Z
DTEND;VALUE=DATE-TIME:20020203
UID:http://www.waiaupa.school.nz/judging-of-calf-club-indoor-exhibits-school-closes-1230pm
URL;VALUE=URI:http://www.waiaupa.school.nz/judging-of-calf-club-indoor-exhibits-school-closes-1230pm
SUMMARY:Judging of Calf Club Indoor Exhibits - School closes 12.30pm
END:VEVENT
BEGIN:VEVENT
DTSTAMP;VALUE=DATE-TIME:20180123T151853Z
DTSTART;VALUE=DATE-TIME:20170929T023600Z
DTEND;VALUE=DATE-TIME:20020203
UID:http://www.waiaupa.school.nz/calf-club-day-2
URL;VALUE=URI:http://www.waiaupa.school.nz/calf-club-day-2
SUMMARY:Calf Club Day
END:VEVENT
END:VCALENDAR
