BEGIN:VCALENDAR
VERSION:2.0
METHOD:PUBLISH
X-WR-CALNAME:Waiau Pa School |  October 01 2017- November 01 2017 | Filter\: 
PRODID:-//strange bird labs//Drupal iCal API//EN
BEGIN:VEVENT
DTSTAMP;VALUE=DATE-TIME:20180123T150700Z
DTSTART;VALUE=DATE-TIME:20171018T021800Z
DTEND;VALUE=DATE-TIME:20020203
UID:http://www.waiaupa.school.nz/calf-club-group-day-at-pukekohe-a-p-showgrounds
URL;VALUE=URI:http://www.waiaupa.school.nz/calf-club-group-day-at-pukekohe-a-p-showgrounds
SUMMARY:Calf Club Group Day at Pukekohe A & P Showgrounds
END:VEVENT
BEGIN:VEVENT
DTSTAMP;VALUE=DATE-TIME:20180123T150700Z
DTSTART;VALUE=DATE-TIME:20171020T010000Z
DTEND;VALUE=DATE-TIME:20171020T010000Z
UID:http://www.waiaupa.school.nz/assembly-kauri-syndicate-2
URL;VALUE=URI:http://www.waiaupa.school.nz/assembly-kauri-syndicate-2
SUMMARY:Assembly ~ Kauri Syndicate
END:VEVENT
BEGIN:VEVENT
DTSTAMP;VALUE=DATE-TIME:20180123T150700Z
DTSTART;VALUE=DATE-TIME:20171023T021900Z
DTEND;VALUE=DATE-TIME:20020203
UID:http://www.waiaupa.school.nz/labour-day-school-closed-1
URL;VALUE=URI:http://www.waiaupa.school.nz/labour-day-school-closed-1
SUMMARY:LABOUR DAY SCHOOL CLOSED
END:VEVENT
BEGIN:VEVENT
DTSTAMP;VALUE=DATE-TIME:20180123T150700Z
DTSTART;VALUE=DATE-TIME:20171027T022000Z
DTEND;VALUE=DATE-TIME:20020203
UID:http://www.waiaupa.school.nz/pta-disco-0
URL;VALUE=URI:http://www.waiaupa.school.nz/pta-disco-0
SUMMARY:PTA Disco
END:VEVENT
BEGIN:VEVENT
DTSTAMP;VALUE=DATE-TIME:20180123T150700Z
DTSTART;VALUE=DATE-TIME:20171028T022000Z
DTEND;VALUE=DATE-TIME:20020203
UID:http://www.waiaupa.school.nz/jump-jam-nationals-at-west-lake-boys-school
URL;VALUE=URI:http://www.waiaupa.school.nz/jump-jam-nationals-at-west-lake-boys-school
SUMMARY:Jump Jam Nationals at West Lake Boys School
END:VEVENT
END:VCALENDAR
