BEGIN:VCALENDAR
VERSION:2.0
METHOD:PUBLISH
X-WR-CALNAME:Waiau Pa School |  November 01 2017- December 01 2017 | Filter\: 
PRODID:-//strange bird labs//Drupal iCal API//EN
BEGIN:VEVENT
DTSTAMP;VALUE=DATE-TIME:20180123T150207Z
DTSTART;VALUE=DATE-TIME:20171103T010000Z
DTEND;VALUE=DATE-TIME:20171103T010000Z
UID:http://www.waiaupa.school.nz/assembly-karaka-syndicate-3
URL;VALUE=URI:http://www.waiaupa.school.nz/assembly-karaka-syndicate-3
SUMMARY:Assembly ~ Karaka Syndicate
END:VEVENT
BEGIN:VEVENT
DTSTAMP;VALUE=DATE-TIME:20180123T150207Z
DTSTART;VALUE=DATE-TIME:20171117T010000Z
DTEND;VALUE=DATE-TIME:20171117T010000Z
UID:http://www.waiaupa.school.nz/assembly-rimu-syndicate-4
URL;VALUE=URI:http://www.waiaupa.school.nz/assembly-rimu-syndicate-4
SUMMARY:Assembly ~ Rimu Syndicate
END:VEVENT
BEGIN:VEVENT
DTSTAMP;VALUE=DATE-TIME:20180123T150207Z
DTSTART;VALUE=DATE-TIME:20171117T022400Z
DTEND;VALUE=DATE-TIME:20020203
UID:http://www.waiaupa.school.nz/franklin-jump-jam-1
URL;VALUE=URI:http://www.waiaupa.school.nz/franklin-jump-jam-1
SUMMARY:Franklin Jump Jam
END:VEVENT
BEGIN:VEVENT
DTSTAMP;VALUE=DATE-TIME:20180123T150207Z
DTSTART;VALUE=DATE-TIME:20171128T022400Z
DTEND;VALUE=DATE-TIME:20020203
UID:http://www.waiaupa.school.nz/rainbows-end-trip-for-helpers
URL;VALUE=URI:http://www.waiaupa.school.nz/rainbows-end-trip-for-helpers
SUMMARY:Rainbows End trip for helpers
END:VEVENT
END:VCALENDAR
