BEGIN:VCALENDAR
VERSION:2.0
METHOD:PUBLISH
X-WR-CALNAME:Waiau Pa School |  December 01 2017- January 01 2018 | Filter\: 
PRODID:-//strange bird labs//Drupal iCal API//EN
BEGIN:VEVENT
DTSTAMP;VALUE=DATE-TIME:20180123T150035Z
DTSTART;VALUE=DATE-TIME:20171201T010000Z
DTEND;VALUE=DATE-TIME:20171201T010000Z
UID:http://www.waiaupa.school.nz/assembly-kowhai-syndicate-5
URL;VALUE=URI:http://www.waiaupa.school.nz/assembly-kowhai-syndicate-5
SUMMARY:Assembly ~ Kowhai Syndicate
END:VEVENT
BEGIN:VEVENT
DTSTAMP;VALUE=DATE-TIME:20180123T150035Z
DTSTART;VALUE=DATE-TIME:20171208T022500Z
DTEND;VALUE=DATE-TIME:20020203
UID:http://www.waiaupa.school.nz/workers-of-the-term-assembly-0
URL;VALUE=URI:http://www.waiaupa.school.nz/workers-of-the-term-assembly-0
SUMMARY:Workers of the Term Assembly
END:VEVENT
BEGIN:VEVENT
DTSTAMP;VALUE=DATE-TIME:20180123T150035Z
DTSTART;VALUE=DATE-TIME:20171212T022600Z
DTEND;VALUE=DATE-TIME:20020203
UID:http://www.waiaupa.school.nz/year-8-outing-year-8-graduation-0
URL;VALUE=URI:http://www.waiaupa.school.nz/year-8-outing-year-8-graduation-0
SUMMARY:Year 8 Outing & Year 8 Graduation
END:VEVENT
BEGIN:VEVENT
DTSTAMP;VALUE=DATE-TIME:20180123T150035Z
DTSTART;VALUE=DATE-TIME:20171213T220000Z
DTEND;VALUE=DATE-TIME:20171213T220000Z
UID:http://www.waiaupa.school.nz/junior-prizegiving-11am
URL;VALUE=URI:http://www.waiaupa.school.nz/junior-prizegiving-11am
SUMMARY:Junior Prizegiving ~ 11am
END:VEVENT
BEGIN:VEVENT
DTSTAMP;VALUE=DATE-TIME:20180123T150035Z
DTSTART;VALUE=DATE-TIME:20171214T060000Z
DTEND;VALUE=DATE-TIME:20171214T060000Z
UID:http://www.waiaupa.school.nz/senior-prizegiving-7pm
URL;VALUE=URI:http://www.waiaupa.school.nz/senior-prizegiving-7pm
SUMMARY:Senior Prizegiving ~ 7pm
END:VEVENT
BEGIN:VEVENT
DTSTAMP;VALUE=DATE-TIME:20180123T150035Z
DTSTART;VALUE=DATE-TIME:20171215T022700Z
DTEND;VALUE=DATE-TIME:20020203
UID:http://www.waiaupa.school.nz/last-day-of-school-school-finishes-1230pm
URL;VALUE=URI:http://www.waiaupa.school.nz/last-day-of-school-school-finishes-1230pm
SUMMARY:Last day of school.  School finishes 12.30pm
END:VEVENT
END:VCALENDAR
