BEGIN:VCALENDAR
VERSION:2.0
METHOD:PUBLISH
X-WR-CALNAME:Waiau Pa School |  March 01 2018- April 01 2018
PRODID:-//strange bird labs//Drupal iCal API//EN
BEGIN:VEVENT
DTSTAMP;VALUE=DATE-TIME:20180123T151156Z
DTSTART;VALUE=DATE-TIME:20180301T002600Z
DTEND;VALUE=DATE-TIME:20020203
UID:http://www.waiaupa.school.nz/kauri-camp-27-28-feb-1-2-march-1
URL;VALUE=URI:http://www.waiaupa.school.nz/kauri-camp-27-28-feb-1-2-march-1
SUMMARY:Kauri Camp 27 & 28 Feb ~ 1 & 2 March
END:VEVENT
BEGIN:VEVENT
DTSTAMP;VALUE=DATE-TIME:20180123T151156Z
DTSTART;VALUE=DATE-TIME:20180302T002600Z
DTEND;VALUE=DATE-TIME:20020203
UID:http://www.waiaupa.school.nz/kauri-camp-27-28-feb-1-2-march-2
URL;VALUE=URI:http://www.waiaupa.school.nz/kauri-camp-27-28-feb-1-2-march-2
SUMMARY:Kauri Camp 27 & 28 Feb ~ 1 & 2 March
END:VEVENT
BEGIN:VEVENT
DTSTAMP;VALUE=DATE-TIME:20180123T151156Z
DTSTART;VALUE=DATE-TIME:20180306T002600Z
DTEND;VALUE=DATE-TIME:20020203
UID:http://www.waiaupa.school.nz/rimu-camp-10
URL;VALUE=URI:http://www.waiaupa.school.nz/rimu-camp-10
SUMMARY:Rimu Camp
END:VEVENT
BEGIN:VEVENT
DTSTAMP;VALUE=DATE-TIME:20180123T151156Z
DTSTART;VALUE=DATE-TIME:20180307T002700Z
DTEND;VALUE=DATE-TIME:20020203
UID:http://www.waiaupa.school.nz/rimu-camp-11
URL;VALUE=URI:http://www.waiaupa.school.nz/rimu-camp-11
SUMMARY:Rimu Camp
END:VEVENT
BEGIN:VEVENT
DTSTAMP;VALUE=DATE-TIME:20180123T151156Z
DTSTART;VALUE=DATE-TIME:20180308T002700Z
DTEND;VALUE=DATE-TIME:20020203
UID:http://www.waiaupa.school.nz/rimu-camp-12
URL;VALUE=URI:http://www.waiaupa.school.nz/rimu-camp-12
SUMMARY:Rimu Camp
END:VEVENT
BEGIN:VEVENT
DTSTAMP;VALUE=DATE-TIME:20180123T151156Z
DTSTART;VALUE=DATE-TIME:20180319T002700Z
DTEND;VALUE=DATE-TIME:20020203
UID:http://www.waiaupa.school.nz/karaka-rimu-kauri-rippa-rugby-lessons
URL;VALUE=URI:http://www.waiaupa.school.nz/karaka-rimu-kauri-rippa-rugby-lessons
SUMMARY:Karaka / Rimu / Kauri Rippa Rugby Lessons
END:VEVENT
BEGIN:VEVENT
DTSTAMP;VALUE=DATE-TIME:20180123T151156Z
DTSTART;VALUE=DATE-TIME:20180320T003000Z
DTEND;VALUE=DATE-TIME:20020203
UID:http://www.waiaupa.school.nz/school-photos-class-individual
URL;VALUE=URI:http://www.waiaupa.school.nz/school-photos-class-individual
SUMMARY:School Photos ~class & individual
END:VEVENT
BEGIN:VEVENT
DTSTAMP;VALUE=DATE-TIME:20180123T151156Z
DTSTART;VALUE=DATE-TIME:20180326T003000Z
DTEND;VALUE=DATE-TIME:20020203
UID:http://www.waiaupa.school.nz/karaka-rimu-kauri-rippa-rugby-lessons-0
URL;VALUE=URI:http://www.waiaupa.school.nz/karaka-rimu-kauri-rippa-rugby-lessons-0
SUMMARY:Karaka / Rimu / Kauri Rippa Rugby Lessons
END:VEVENT
END:VCALENDAR
