BEGIN:VCALENDAR
VERSION:2.0
METHOD:PUBLISH
X-WR-CALNAME:Waiau Pa School |  April 01 2018- May 01 2018 | Filter\: 
PRODID:-//strange bird labs//Drupal iCal API//EN
BEGIN:VEVENT
DTSTAMP;VALUE=DATE-TIME:20180123T151122Z
DTSTART;VALUE=DATE-TIME:20180413T003100Z
DTEND;VALUE=DATE-TIME:20020203
UID:http://www.waiaupa.school.nz/end-of-term-1
URL;VALUE=URI:http://www.waiaupa.school.nz/end-of-term-1
SUMMARY:End of Term 1
END:VEVENT
END:VCALENDAR
